BEGIN:VCALENDAR
VERSION:2.0
PRODID:-//Intand Corporation//Tandem//EN
METHOD:PUBLISH
BEGIN:VEVENT
DTSTAMP:20260423T232256Z
DTSTART:20210415T210000Z
DTEND:20210416T035959Z
TRANSP:TRANSPARENT
PRIORITY:0
SUMMARY:Softball Girls Varsity vs Hamilton Jr/Sr. High School
LOCATION:UNKNOWN
DESCRIPTION:Breakdown: TBD\n\nReturn: TBD\n\nGroups:\nSoftball Girls Varsi
 ty (Neutral)\n\nSchools:\nCentral Noble Jr/Sr High School (Home)\n\nLocati
 on:\nUNKNOWN\n\n
URL;VALUE=URI:http://centralnoblecomcorp.tandem.co/index.php?type=view&act
 ion=event&id=6690267
CREATED:20200415T011217Z
LAST-MODIFIED:20200415T011217Z
UID:event-6690267-centralnoblecomcorp@intand.com
END:VEVENT
END:VCALENDAR
